BEGIN:VCALENDAR
VERSION:2.0
PRODID:-//ChamberMaster//Event Calendar 2.0//EN
METHOD:PUBLISH
X-PUBLISHED-TTL:P3D
REFRESH-INTERVAL:P3D
CALSCALE:GREGORIAN
BEGIN:VEVENT
DTSTART:20240426T000000Z
DTEND:20240426T020000Z
X-MICROSOFT-CDO-ALLDAYEVENT:FALSE
SUMMARY:2024 Election Education
DESCRIPTION:Becky Kersten from HSC Court House\n\nLocation: Big Horn Federal
X-ALT-DESC;FMTTYPE=text/html:Becky Kersten from HSC Court House<br />\nLocation: Big Horn Federal
LOCATION:Location Big Horn Federal 643 Broadway ST
UID:e.2849.34920
SEQUENCE:3
DTSTAMP:20260422T054505Z
URL:https://thermopolischamber.org/events/details/2024-election-education-34920
END:VEVENT

END:VCALENDAR
