BEGIN:VCALENDAR
VERSION:2.0
PRODID:-//ChamberMaster//Event Calendar 2.0//EN
METHOD:PUBLISH
X-PUBLISHED-TTL:P3D
REFRESH-INTERVAL:P3D
CALSCALE:GREGORIAN
BEGIN:VEVENT
DTSTART:20240421T000000Z
DTEND:20240421T013000Z
X-MICROSOFT-CDO-ALLDAYEVENT:FALSE
SUMMARY:2nd Annual Beyond Kegels with Cocktails
DESCRIPTION:Hosted by RYTE Rehabilitation \n\nAll proceeds benefit P.E.O.
X-ALT-DESC;FMTTYPE=text/html:<strong>Hosted by RYTE Rehabilitation&nbsp\;</strong><br />\nAll proceeds benefit P.E.O.
LOCATION:Ryte Rehabilitation 800 Shoshoni Street
UID:e.2849.34961
SEQUENCE:3
DTSTAMP:20260422T055005Z
URL:https://thermopolischamber.org/events/details/2nd-annual-beyond-kegels-with-cocktails-34961
END:VEVENT

END:VCALENDAR
