BEGIN:VCALENDAR
VERSION:2.0
PRODID:-//ChamberMaster//Event Calendar 2.0//EN
METHOD:PUBLISH
X-PUBLISHED-TTL:P3D
REFRESH-INTERVAL:P3D
CALSCALE:GREGORIAN
BEGIN:VEVENT
DTSTART:20240525T150000Z
DTEND:20240527T010000Z
X-MICROSOFT-CDO-ALLDAYEVENT:FALSE
SUMMARY:3 on 3 Basketball Tournament
DESCRIPTION:3 on 3 Basketball Tournament\n\nHosted by Bobcat Boosters
X-ALT-DESC;FMTTYPE=text/html:<p>3 on 3 Basketball Tournament<br />\nHosted by Bobcat Boosters<br />\n<br />\n&nbsp\;</p>\n
LOCATION:HSC High School Parking Lot
UID:e.2849.34838
SEQUENCE:3
DTSTAMP:20260426T015512Z
URL:https://thermopolischamber.org/events/details/3-on-3-basketball-tournament-05-25-2024-34838
END:VEVENT

END:VCALENDAR
