BEGIN:VCALENDAR
VERSION:2.0
PRODID:-//ChamberMaster//Event Calendar 2.0//EN
METHOD:PUBLISH
X-PUBLISHED-TTL:P3D
REFRESH-INTERVAL:P3D
CALSCALE:GREGORIAN
BEGIN:VEVENT
DTSTART:20240419T233000Z
DTEND:20240420T013000Z
X-MICROSOFT-CDO-ALLDAYEVENT:FALSE
SUMMARY:Acoustic Jam Session
DESCRIPTION:Acoustic Jam Session
X-ALT-DESC;FMTTYPE=text/html:Acoustic Jam Session<br />\n&nbsp\;
LOCATION:HSC Senior Citizen Center
UID:e.2849.8576
SEQUENCE:3
DTSTAMP:20260422T054557Z
URL:https://thermopolischamber.org/events/details/acoustic-jam-session-04-19-2024-8576
END:VEVENT

END:VCALENDAR
