BEGIN:VCALENDAR
VERSION:2.0
PRODID:-//ChamberMaster//Event Calendar 2.0//EN
METHOD:PUBLISH
X-PUBLISHED-TTL:P3D
REFRESH-INTERVAL:P3D
CALSCALE:GREGORIAN
BEGIN:VEVENT
DTSTART:20240518T150000Z
DTEND:20240518T230000Z
X-MICROSOFT-CDO-ALLDAYEVENT:FALSE
SUMMARY:Arts and Crafts Fair
DESCRIPTION:Local artists will demonstrate their crafts live \n\nAttendees will then have the opportunity to purchase original pieces of art
X-ALT-DESC;FMTTYPE=text/html:<strong>Local artists will demonstrate their crafts live&nbsp\;<br />\nAttendees will then have the opportunity to purchase original pieces of art</strong>
LOCATION:Armory 83 US Highway North Thermopolis
UID:e.2849.35045
SEQUENCE:3
DTSTAMP:20260426T020549Z
URL:https://thermopolischamber.org/events/details/arts-and-crafts-fair-35045
END:VEVENT

END:VCALENDAR
