BEGIN:VCALENDAR
VERSION:2.0
PRODID:-//ChamberMaster//Event Calendar 2.0//EN
METHOD:PUBLISH
X-PUBLISHED-TTL:P3D
REFRESH-INTERVAL:P3D
CALSCALE:GREGORIAN
BEGIN:VEVENT
DTSTART:20201206T153000Z
DTEND:20201206T213000Z
X-MICROSOFT-CDO-ALLDAYEVENT:FALSE
SUMMARY:Bench Competition
DESCRIPTION:1st Annual Thermopolis VFW Lifting Competition and Seminar December 5th & 6th 2020:\n\nMoney Raised will be donated to VFW Post #2281\n\nBench Competition: Women's\, Men's and Teenager's Class\n\n\n\nContact: Thermopolis- Hot Springs Chamber of Commerce (307)864-3192 for registration information
X-ALT-DESC;FMTTYPE=text/html:1st Annual Thermopolis VFW Lifting Competition and Seminar December 5th &amp\; 6th 2020:<br />\nMoney Raised will be donated to VFW Post #2281<br />\nBench Competition: Women&#39\;s\, Men&#39\;s and Teenager&#39\;s Class<br />\n<br />\nContact: Thermopolis- Hot Springs Chamber of Commerce (307)864-3192 for registration information
LOCATION:Gottsche Fitness Center\, 148 E. Arapahoe\, Thermopolis
UID:e.2849.26666
SEQUENCE:3
DTSTAMP:20260424T124122Z
URL:https://thermopolischamber.org/events/details/bench-competition-26666
END:VEVENT

END:VCALENDAR
