BEGIN:VCALENDAR
VERSION:2.0
PRODID:-//ChamberMaster//Event Calendar 2.0//EN
METHOD:PUBLISH
X-PUBLISHED-TTL:P3D
REFRESH-INTERVAL:P3D
CALSCALE:GREGORIAN
BEGIN:VEVENT
DTSTART:20230701T000000Z
DTEND:20230701T010000Z
X-MICROSOFT-CDO-ALLDAYEVENT:FALSE
SUMMARY:Blacklight Bingo Night
DESCRIPTION:A fundraiser for the George M. Sliney Odd Fellow Lodge #26 will be held at the CFC Community Hall June 30th.  Come and join the fun!
X-ALT-DESC;FMTTYPE=text/html:A fundraiser for the George M. Sliney Odd Fellow Lodge #26 will be held at the CFC Community Hall June 30th.&nbsp\; Come and join the fun!
LOCATION:CFC Community Hall
UID:e.2849.33649
SEQUENCE:3
DTSTAMP:20260421T083249Z
URL:https://thermopolischamber.org/events/details/blacklight-bingo-night-33649
END:VEVENT

END:VCALENDAR
