BEGIN:VCALENDAR
VERSION:2.0
PRODID:-//ChamberMaster//Event Calendar 2.0//EN
METHOD:PUBLISH
X-PUBLISHED-TTL:P3D
REFRESH-INTERVAL:P3D
CALSCALE:GREGORIAN
BEGIN:VEVENT
DTSTART:20210111T210000Z
DTEND:20210112T010000Z
X-MICROSOFT-CDO-ALLDAYEVENT:FALSE
SUMMARY:Blood Drive
DESCRIPTION:Blood Drive in Thermopolis! Times and locations may change without notice. Please verify the times of the drives when making your appointment. To make your appointment call Melene Mierzejewski at (307) 240 1414\, or go online to bloodhero.com sponsor code: thermopolis
X-ALT-DESC;FMTTYPE=text/html:Blood Drive in Thermopolis! Times and locations may change without notice. Please verify the times of the drives when making your appointment. To make your appointment call Melene Mierzejewski at (307) 240 1414\, or go online to bloodhero.com sponsor code: thermopolis&nbsp\;
LOCATION:Hot Springs County Senior Citizens Center
UID:e.2849.26804
SEQUENCE:3
DTSTAMP:20260424T110517Z
URL:https://thermopolischamber.org/events/details/blood-drive-26804
END:VEVENT

END:VCALENDAR
