BEGIN:VCALENDAR
VERSION:2.0
PRODID:-//ChamberMaster//Event Calendar 2.0//EN
METHOD:PUBLISH
X-PUBLISHED-TTL:P3D
REFRESH-INTERVAL:P3D
CALSCALE:GREGORIAN
BEGIN:VEVENT
DTSTART:20191207T000000Z
DTEND:20191207T040000Z
X-MICROSOFT-CDO-ALLDAYEVENT:FALSE
SUMMARY:Celebration Of Creches
DESCRIPTION:Celetation Of Creches
X-ALT-DESC;FMTTYPE=text/html:Celetation Of Creches
LOCATION:Community Federated Church
UID:e.2849.25249
SEQUENCE:3
DTSTAMP:20260420T074405Z
URL:https://thermopolischamber.org/events/details/celebration-of-creches-25249
END:VEVENT

END:VCALENDAR
