BEGIN:VCALENDAR
VERSION:2.0
PRODID:-//ChamberMaster//Event Calendar 2.0//EN
METHOD:PUBLISH
X-PUBLISHED-TTL:P3D
REFRESH-INTERVAL:P3D
CALSCALE:GREGORIAN
BEGIN:VEVENT
DTSTART:20231106T003000Z
DTEND:20231106T013000Z
X-MICROSOFT-CDO-ALLDAYEVENT:FALSE
SUMMARY:"Unplug" Celtic Service
DESCRIPTION:Celtic service held every 1st Sunday of the month. Non-denominational\, all are welcome
X-ALT-DESC;FMTTYPE=text/html:Celtic service held every 1st Sunday of the month. Non-denominational\, all are welcome
LOCATION:642 Arapahoe\, Holy Trinity Episcopal church
UID:e.2849.34599
SEQUENCE:3
DTSTAMP:20260421T154859Z
URL:https://thermopolischamber.org/events/details/celtic-service-non-denominational-11-05-2023-34599
END:VEVENT

END:VCALENDAR
