BEGIN:VCALENDAR
VERSION:2.0
PRODID:-//ChamberMaster//Event Calendar 2.0//EN
METHOD:PUBLISH
X-PUBLISHED-TTL:P3D
REFRESH-INTERVAL:P3D
CALSCALE:GREGORIAN
BEGIN:VEVENT
DTSTART;VALUE=DATE:20201224
DTEND;VALUE=DATE:20210104
TRANSP:TRANSPARENT
X-MICROSOFT-CDO-ALLDAYEVENT:TRUE
SUMMARY:Chamber of Commerce Closed For Holidays
DESCRIPTION:Closed For the Holidays. Merry Christmas and Happy New Year To All!!
X-ALT-DESC;FMTTYPE=text/html:Closed For the Holidays. Merry Christmas and Happy New Year To All!!
LOCATION:
UID:e.2849.26498
SEQUENCE:3
DTSTAMP:20260424T110931Z
URL:https://thermopolischamber.org/events/details/chamber-of-commerce-closed-for-holidays-26498
END:VEVENT

END:VCALENDAR
