BEGIN:VCALENDAR
VERSION:2.0
PRODID:-//ChamberMaster//Event Calendar 2.0//EN
METHOD:PUBLISH
X-PUBLISHED-TTL:P3D
REFRESH-INTERVAL:P3D
CALSCALE:GREGORIAN
BEGIN:VEVENT
DTSTART:20230615T190000Z
DTEND:20230615T210000Z
X-MICROSOFT-CDO-ALLDAYEVENT:FALSE
SUMMARY:Community Baby Shower
DESCRIPTION:Join us for a Community Baby Shower honoring expecting moms\, new parents & families. Free snacks\, baby items & education will be provided. Please call the Help Center with any questions. 307-864-3311
X-ALT-DESC;FMTTYPE=text/html:Join us for a Community Baby Shower honoring expecting moms\, new parents &amp\; families. Free snacks\, baby items &amp\; education will be provided. Please call the Help Center with any questions. 307-864-3311
LOCATION:The Help Center 426 Big Horn
UID:e.2849.33680
SEQUENCE:3
DTSTAMP:20260421T085735Z
URL:https://thermopolischamber.org/events/details/community-baby-shower-33680
END:VEVENT

END:VCALENDAR
