BEGIN:VCALENDAR
VERSION:2.0
PRODID:-//ChamberMaster//Event Calendar 2.0//EN
METHOD:PUBLISH
X-PUBLISHED-TTL:P3D
REFRESH-INTERVAL:P3D
CALSCALE:GREGORIAN
BEGIN:VEVENT
DTSTART:20240406T190000Z
DTEND:20240406T220000Z
X-MICROSOFT-CDO-ALLDAYEVENT:FALSE
SUMMARY:Cribbage Tournament @HSC Senior Center
DESCRIPTION:Cribbage Tournament
X-ALT-DESC;FMTTYPE=text/html:<strong>Cribbage Tournament</strong>
LOCATION:HSC Senior Center 206 Senior Ave
UID:e.2849.34893
SEQUENCE:3
DTSTAMP:20260422T055006Z
URL:https://thermopolischamber.org/events/details/cribbage-tournament-hsc-senior-center-34893
END:VEVENT

END:VCALENDAR
