BEGIN:VCALENDAR
VERSION:2.0
PRODID:-//ChamberMaster//Event Calendar 2.0//EN
METHOD:PUBLISH
X-PUBLISHED-TTL:P3D
REFRESH-INTERVAL:P3D
CALSCALE:GREGORIAN
BEGIN:VEVENT
DTSTART:20210109T000000Z
DTEND:20210111T040000Z
X-MICROSOFT-CDO-ALLDAYEVENT:FALSE
SUMMARY:Ducks Unlimited Retreat
DESCRIPTION:
X-ALT-DESC;FMTTYPE=text/html:
LOCATION:Fair building
UID:e.2849.26840
SEQUENCE:3
DTSTAMP:20260424T122914Z
URL:https://thermopolischamber.org/events/details/ducks-unlimited-retreat-26840
END:VEVENT

END:VCALENDAR
