BEGIN:VCALENDAR
VERSION:2.0
PRODID:-//ChamberMaster//Event Calendar 2.0//EN
METHOD:PUBLISH
X-PUBLISHED-TTL:P3D
REFRESH-INTERVAL:P3D
CALSCALE:GREGORIAN
BEGIN:VEVENT
DTSTART:20230707T170000Z
DTEND:20230707T180000Z
X-MICROSOFT-CDO-ALLDAYEVENT:FALSE
SUMMARY:Family fun event
DESCRIPTION:Let's all dance and play together in super safe soapy foamy fun! Ann Lincoln will turn the HSC Library outdoor space into a giant dance party/bubble bath playground.
X-ALT-DESC;FMTTYPE=text/html:Let&#39\;s all dance and play together in super safe soapy foamy fun! Ann Lincoln will&nbsp\;turn the HSC Library outdoor space into a giant dance party/bubble bath playground.&nbsp\;&nbsp\;
LOCATION:HSC Library
UID:e.2849.33673
SEQUENCE:3
DTSTAMP:20260425T174404Z
URL:https://thermopolischamber.org/events/details/family-fun-event-33673
END:VEVENT

END:VCALENDAR
