BEGIN:VCALENDAR
VERSION:2.0
PRODID:-//ChamberMaster//Event Calendar 2.0//EN
METHOD:PUBLISH
X-PUBLISHED-TTL:P3D
REFRESH-INTERVAL:P3D
CALSCALE:GREGORIAN
BEGIN:VEVENT
DTSTART:20210101T180000Z
DTEND:20210101T200000Z
X-MICROSOFT-CDO-ALLDAYEVENT:FALSE
SUMMARY:First Day Hike
DESCRIPTION:First Day Hike\n\nHot Springs State Park
X-ALT-DESC;FMTTYPE=text/html:First Day Hike<br />\nHot Springs State Park
LOCATION:Hot Springs State Park Kiwanas Shelter
UID:e.2849.26838
SEQUENCE:3
DTSTAMP:20260424T110452Z
URL:https://thermopolischamber.org/events/details/first-day-hike-26838
END:VEVENT

END:VCALENDAR
