BEGIN:VCALENDAR
VERSION:2.0
PRODID:-//ChamberMaster//Event Calendar 2.0//EN
METHOD:PUBLISH
X-PUBLISHED-TTL:P3D
REFRESH-INTERVAL:P3D
CALSCALE:GREGORIAN
BEGIN:VEVENT
DTSTART:20210213T180000Z
DTEND:20210213T200000Z
X-MICROSOFT-CDO-ALLDAYEVENT:FALSE
SUMMARY:Friends Of the Library Chocolate Lovers Event
DESCRIPTION:Hosted by Friends of the Library\n\nThe Chocolate Lovers Take-out event will be on Saturday\, February 13 from 11am to 1pm at the Library.  This annual event is a tad different this year to comply with COVID-19 safety precautions.  Come by and pick-up awesome pre-packed boxes of chocolate delights.  The cost will be $5.00 per box.  There will also be a silent auction of books/treats combos plus crafting bundles available for purchase.  Masks are required.  For further information\, call Cindy Toth at 307-631-7866.
X-ALT-DESC;FMTTYPE=text/html:Hosted by Friends of the Library<br />\n<span style="color: rgb(34\, 34\, 34)\; font-size: large\; background-color: rgb(255\, 255\, 255)\;">The Chocolate Lovers Take-out event will be on Saturday\, February 13 from 11am to 1pm at the Library.&nbsp\; This annual event is a tad different this year to comply with COVID-19 safety precautions.&nbsp\; Come by and pick-up awesome pre-packed boxes of chocolate delights.&nbsp\; The cost will be $5.00 per box.&nbsp\; There will also be a silent auction of books/treats combos plus crafting bundles available for purchase.&nbsp\; Masks are required.&nbsp\; For further information\, call Cindy Toth at 307-631-7866.</span>
LOCATION:HSC Library
UID:e.2849.26836
SEQUENCE:3
DTSTAMP:20260424T141523Z
URL:https://thermopolischamber.org/events/details/friends-of-the-library-chocolate-lovers-event-26836
END:VEVENT

END:VCALENDAR
