BEGIN:VCALENDAR
VERSION:2.0
PRODID:-//ChamberMaster//Event Calendar 2.0//EN
METHOD:PUBLISH
X-PUBLISHED-TTL:P3D
REFRESH-INTERVAL:P3D
CALSCALE:GREGORIAN
BEGIN:VEVENT
DTSTART;VALUE=DATE:20240608
DTEND;VALUE=DATE:20240609
TRANSP:TRANSPARENT
X-MICROSOFT-CDO-ALLDAYEVENT:TRUE
SUMMARY:Get Outdoors Day: Bison Programming
DESCRIPTION:Hot Springs State Park\n\nPrograms and events :Get Outdoors Day: Bison Programming
X-ALT-DESC;FMTTYPE=text/html:Hot Springs State Park<br />\nPrograms and events :Get Outdoors Day: Bison Programming
LOCATION:Programs requite pre-registration
UID:e.2849.35197
SEQUENCE:3
DTSTAMP:20260426T021024Z
URL:https://thermopolischamber.org/events/details/get-outdoors-day-bison-programming-35197
END:VEVENT

END:VCALENDAR
