BEGIN:VCALENDAR
VERSION:2.0
PRODID:-//ChamberMaster//Event Calendar 2.0//EN
METHOD:PUBLISH
X-PUBLISHED-TTL:P3D
REFRESH-INTERVAL:P3D
CALSCALE:GREGORIAN
BEGIN:VEVENT
DTSTART:20210305T013000Z
DTEND:20210305T023000Z
X-MICROSOFT-CDO-ALLDAYEVENT:FALSE
SUMMARY:Gun Club Meeting
DESCRIPTION:Monthly Meeting of Gun Club
X-ALT-DESC;FMTTYPE=text/html:Monthly Meeting of Gun Club
LOCATION:the Armory
UID:e.2849.24615
SEQUENCE:3
DTSTAMP:20260424T140902Z
URL:https://thermopolischamber.org/events/details/gun-club-meeting-03-04-2021-24615
END:VEVENT

END:VCALENDAR
