BEGIN:VCALENDAR
VERSION:2.0
PRODID:-//ChamberMaster//Event Calendar 2.0//EN
METHOD:PUBLISH
X-PUBLISHED-TTL:P3D
REFRESH-INTERVAL:P3D
CALSCALE:GREGORIAN
BEGIN:VEVENT
DTSTART:20230604T150000Z
DTEND:20230604T180000Z
X-MICROSOFT-CDO-ALLDAYEVENT:FALSE
SUMMARY:GYMKHANA Series
DESCRIPTION:2023 Thermopolis GYMKHANA Series \n\nContact Amanda Armajo with questions 431-1165
X-ALT-DESC;FMTTYPE=text/html:2023 Thermopolis GYMKHANA Series&nbsp\;<br />\nContact Amanda Armajo with questions 431-1165
LOCATION:Fairgrounds
UID:e.2849.32951
SEQUENCE:3
DTSTAMP:20260421T083627Z
URL:https://thermopolischamber.org/events/details/gymkhana-series-32951
END:VEVENT

END:VCALENDAR
