BEGIN:VCALENDAR
VERSION:2.0
PRODID:-//ChamberMaster//Event Calendar 2.0//EN
METHOD:PUBLISH
X-PUBLISHED-TTL:P3D
REFRESH-INTERVAL:P3D
CALSCALE:GREGORIAN
BEGIN:VEVENT
DTSTART;VALUE=DATE:20210304
DTEND;VALUE=DATE:20210307
TRANSP:TRANSPARENT
X-MICROSOFT-CDO-ALLDAYEVENT:TRUE
SUMMARY:Hazel ~N~ Pearl's Marketplace "R" Event
DESCRIPTION:"R" you into junk? We "R"\n\nIn the mood for Rust? Rush down to the "R" event\, to do some Retail therapy. Reward yourself with a Restored Relich. Run\, don't walk. What do we do to the items Risen from the dust? Reuse\, Renovate\, Reuse\, Restore\, Refinish\, REINVENT\, Restructure.
X-ALT-DESC;FMTTYPE=text/html:&quot\;R&quot\; you into junk? We &quot\;R&quot\;<br />\nIn the mood for Rust? Rush down to the &quot\;R&quot\; event\, to do some Retail therapy. Reward yourself with a Restored Relich. Run\, don&#39\;t walk. What do we do to the items Risen from the dust? Reuse\, Renovate\, Reuse\, Restore\, Refinish\, REINVENT\, Restructure.&nbsp\;<br />\n&nbsp\;
LOCATION:Hazel-n-Pearl's
UID:e.2849.27747
SEQUENCE:3
DTSTAMP:20260424T140907Z
URL:https://thermopolischamber.org/events/details/hazel-n-pearl-s-marketplace-r-event-27747
END:VEVENT

END:VCALENDAR
