BEGIN:VCALENDAR
VERSION:2.0
PRODID:-//ChamberMaster//Event Calendar 2.0//EN
METHOD:PUBLISH
X-PUBLISHED-TTL:P3D
REFRESH-INTERVAL:P3D
CALSCALE:GREGORIAN
BEGIN:VEVENT
DTSTART:20230616T220000Z
DTEND:20230617T010000Z
X-MICROSOFT-CDO-ALLDAYEVENT:FALSE
SUMMARY:Hot Spot Car Rally Poker Run
DESCRIPTION:Hot Spot Car Rally Poker Run. Starts at 4pm at the Kiwanis Shelter in the Park\, ends at 7pm at the HSC Senior Center
X-ALT-DESC;FMTTYPE=text/html:Hot Spot Car Rally Poker Run. Starts at 4pm at the Kiwanis Shelter in the Park\, ends at 7pm at the HSC Senior Center
LOCATION:HSC State Park Kiwanis Shelter
UID:e.2849.33670
SEQUENCE:3
DTSTAMP:20260423T082405Z
URL:https://thermopolischamber.org/events/details/hot-spot-car-rally-poker-run-33670
END:VEVENT

END:VCALENDAR
