BEGIN:VCALENDAR
VERSION:2.0
PRODID:-//ChamberMaster//Event Calendar 2.0//EN
METHOD:PUBLISH
X-PUBLISHED-TTL:P3D
REFRESH-INTERVAL:P3D
CALSCALE:GREGORIAN
BEGIN:VEVENT
DTSTART:20210226T010000Z
DTEND:20210226T030000Z
X-MICROSOFT-CDO-ALLDAYEVENT:FALSE
SUMMARY:Hot Springs County Airport (HSG) - Master Plan Meeting
DESCRIPTION:This is the 2nd public meeting for the Hot Springs County Airport Master Plan. Please join us to learn about the project\, ask questions\, and provide feedback. The airport inventory and aviation forecast will be discussed.
X-ALT-DESC;FMTTYPE=text/html:This is the 2nd public meeting for the Hot Springs County Airport Master Plan. Please join us to learn about the project\, ask questions\, and provide feedback. The airport inventory and aviation forecast will be discussed.
LOCATION:Hot Springs County Annex Meeting Room\, 117 N. 4th Street in Thermopolis
UID:e.2849.27255
SEQUENCE:3
DTSTAMP:20260424T124558Z
URL:https://thermopolischamber.org/events/details/hot-springs-county-airport-hsg-master-plan-meeting-27255
END:VEVENT

END:VCALENDAR
