BEGIN:VCALENDAR
VERSION:2.0
PRODID:-//ChamberMaster//Event Calendar 2.0//EN
METHOD:PUBLISH
X-PUBLISHED-TTL:P3D
REFRESH-INTERVAL:P3D
CALSCALE:GREGORIAN
BEGIN:VEVENT
DTSTART:20240412T010000Z
DTEND:20240412T020000Z
X-MICROSOFT-CDO-ALLDAYEVENT:FALSE
SUMMARY:Hot Springs County High School Spring Festival Showcase Band and Choir
DESCRIPTION:HSCHS Spring Festival Showcase Band and Choir
X-ALT-DESC;FMTTYPE=text/html:HSCHS Spring Festival Showcase Band and Choir<br />\n&nbsp\;
LOCATION:HSCHS Auditorium Stage
UID:e.2849.34906
SEQUENCE:3
DTSTAMP:20260422T055414Z
URL:https://thermopolischamber.org/events/details/hot-springs-county-high-school-spring-festival-showcase-band-and-choir-34906
END:VEVENT

END:VCALENDAR
