BEGIN:VCALENDAR
VERSION:2.0
PRODID:-//ChamberMaster//Event Calendar 2.0//EN
METHOD:PUBLISH
X-PUBLISHED-TTL:P3D
REFRESH-INTERVAL:P3D
CALSCALE:GREGORIAN
BEGIN:VEVENT
DTSTART:20240414T160000Z
DTEND:20240414T200000Z
X-MICROSOFT-CDO-ALLDAYEVENT:FALSE
SUMMARY:HSC Barrel Racing
DESCRIPTION:Hot Springs County Barrel Racing \n\nSpectators Welcome
X-ALT-DESC;FMTTYPE=text/html:<strong>Hot Springs County Barrel Racing&nbsp\;<br />\nSpectators Welcome</strong>
LOCATION:HSC Fairgrounds
UID:e.2849.34947
SEQUENCE:3
DTSTAMP:20260422T054926Z
URL:https://thermopolischamber.org/events/details/hsc-barrel-racing-04-14-2024-34947
END:VEVENT

END:VCALENDAR
