BEGIN:VCALENDAR
VERSION:2.0
PRODID:-//ChamberMaster//Event Calendar 2.0//EN
METHOD:PUBLISH
X-PUBLISHED-TTL:P3D
REFRESH-INTERVAL:P3D
CALSCALE:GREGORIAN
BEGIN:VEVENT
DTSTART:20240413T150000Z
DTEND:20240413T230000Z
X-MICROSOFT-CDO-ALLDAYEVENT:FALSE
SUMMARY:HSC Democrat's Presidential Preferential Caucus
DESCRIPTION:HSC Democratic Presidential Preference Caucus and Convention\n\nFree Taco Bar Lunch
X-ALT-DESC;FMTTYPE=text/html:<strong>HSC Democratic Presidential Preference Caucus and Convention</strong><br />\nFree Taco Bar Lunch
LOCATION:Lazy Fox 536 Arapahoe
UID:e.2849.34896
SEQUENCE:3
DTSTAMP:20260422T062814Z
URL:https://thermopolischamber.org/events/details/hsc-democrat-s-presidential-preferential-caucus-34896
END:VEVENT

END:VCALENDAR
