BEGIN:VCALENDAR
VERSION:2.0
PRODID:-//ChamberMaster//Event Calendar 2.0//EN
METHOD:PUBLISH
X-PUBLISHED-TTL:P3D
REFRESH-INTERVAL:P3D
CALSCALE:GREGORIAN
BEGIN:VEVENT
DTSTART:20240416T003000Z
DTEND:20240416T020000Z
X-MICROSOFT-CDO-ALLDAYEVENT:FALSE
SUMMARY:HSC Republican Committee
DESCRIPTION:
X-ALT-DESC;FMTTYPE=text/html:
LOCATION:HSC Annex Building
UID:e.2849.9418
SEQUENCE:3
DTSTAMP:20260422T055038Z
URL:https://thermopolischamber.org/events/details/hsc-republican-committee-04-15-2024-9418
END:VEVENT

END:VCALENDAR
