BEGIN:VCALENDAR
VERSION:2.0
PRODID:-//ChamberMaster//Event Calendar 2.0//EN
METHOD:PUBLISH
X-PUBLISHED-TTL:P3D
REFRESH-INTERVAL:P3D
CALSCALE:GREGORIAN
BEGIN:VEVENT
DTSTART:20240407T200000Z
DTEND:20240407T210000Z
X-MICROSOFT-CDO-ALLDAYEVENT:FALSE
SUMMARY:Lion's Club Easter Egg Hunt
DESCRIPTION:Easter Egg Hunt (Rescheduled)\n\nFor children through 9 years old\n\nPrizes for all ages\n\nWeather permitting
X-ALT-DESC;FMTTYPE=text/html:<br />\n<strong>Easter Egg Hunt (Rescheduled)</strong><br />\nFor children through 9 years old<br />\nPrizes for all ages<br />\nWeather permitting
LOCATION:Hot Springs State Park
UID:e.2849.34984
SEQUENCE:3
DTSTAMP:20260422T060512Z
URL:https://thermopolischamber.org/events/details/lion-s-club-easter-egg-hunt-34984
END:VEVENT

END:VCALENDAR
