BEGIN:VCALENDAR
VERSION:2.0
PRODID:-//ChamberMaster//Event Calendar 2.0//EN
METHOD:PUBLISH
X-PUBLISHED-TTL:P3D
REFRESH-INTERVAL:P3D
CALSCALE:GREGORIAN
BEGIN:VEVENT
DTSTART;VALUE=DATE:20210211
DTEND;VALUE=DATE:20210214
TRANSP:TRANSPARENT
X-MICROSOFT-CDO-ALLDAYEVENT:TRUE
SUMMARY:Market Place at Hazel n Pearl's
DESCRIPTION:Market Place\n\nDust and Rust and Love is in the Air!
X-ALT-DESC;FMTTYPE=text/html:Market Place<br />\nDust and Rust and Love is in the Air!<br />\n&nbsp\;
LOCATION:Hazel n Pearl's
UID:e.2849.27247
SEQUENCE:3
DTSTAMP:20260424T124600Z
URL:https://thermopolischamber.org/events/details/market-place-at-hazel-n-pearl-s-27247
END:VEVENT

END:VCALENDAR
