BEGIN:VCALENDAR
VERSION:2.0
PRODID:-//ChamberMaster//Event Calendar 2.0//EN
METHOD:PUBLISH
X-PUBLISHED-TTL:P3D
REFRESH-INTERVAL:P3D
CALSCALE:GREGORIAN
BEGIN:VEVENT
DTSTART:20260423T200000Z
DTEND:20260423T220000Z
X-MICROSOFT-CDO-ALLDAYEVENT:FALSE
SUMMARY:Memoir Workshop
DESCRIPTION:Rooted in Legacy\n\nFun two hour workshop\n\nBegin capturing meaningful memories\n\nNo writing experience required
X-ALT-DESC;FMTTYPE=text/html:Rooted in Legacy<br />\nFun two hour workshop<br />\nBegin capturing meaningful memories<br />\nNo writing experience required
LOCATION:HSC Library
UID:e.2849.37644
SEQUENCE:3
DTSTAMP:20260422T075552Z
URL:https://thermopolischamber.org/events/details/memoir-workshop-37644
END:VEVENT

END:VCALENDAR
