BEGIN:VCALENDAR
VERSION:2.0
PRODID:-//ChamberMaster//Event Calendar 2.0//EN
METHOD:PUBLISH
X-PUBLISHED-TTL:P3D
REFRESH-INTERVAL:P3D
CALSCALE:GREGORIAN
BEGIN:VEVENT
DTSTART:20220605T200000Z
DTEND:20220605T200000Z
X-MICROSOFT-CDO-ALLDAYEVENT:FALSE
SUMMARY:Public Meeting-Election Integrity and Security in Wyoming
DESCRIPTION:Public Meeting  Election Integrity & Security in Wyoming Presented by Secretary of State\, Ed Buchanan
X-ALT-DESC;FMTTYPE=text/html:Public Meeting&nbsp\; Election Integrity &amp\; Security in Wyoming Presented by Secretary of State\, Ed Buchanan
LOCATION:HSC Museum\, 700 Broadway
UID:e.2849.30247
SEQUENCE:3
DTSTAMP:20260424T145217Z
URL:https://thermopolischamber.org/events/details/public-meeting-election-integrity-and-security-in-wyoming-30247
END:VEVENT

END:VCALENDAR
