BEGIN:VCALENDAR
VERSION:2.0
PRODID:-//ChamberMaster//Event Calendar 2.0//EN
METHOD:PUBLISH
X-PUBLISHED-TTL:P3D
REFRESH-INTERVAL:P3D
CALSCALE:GREGORIAN
BEGIN:VEVENT
DTSTART:20241015T003000Z
DTEND:20241015T013000Z
X-MICROSOFT-CDO-ALLDAYEVENT:FALSE
SUMMARY:Quilt Guild Reorganization Meeting
DESCRIPTION:Reorganizational Meeting for Quilt Guild\n\nFiber Artists Welcome
X-ALT-DESC;FMTTYPE=text/html:<strong><span style="font-size:14px\;">Reorganizational Meeting for Quilt Guild<br />\nFiber Artists Welcome</span></strong>
LOCATION:Gooseberry Garden Quilt Shop 521 Broadway
UID:e.2849.35588
SEQUENCE:3
DTSTAMP:20260420T133549Z
URL:https://thermopolischamber.org/events/details/quilt-guild-reorganization-meeting-35588
END:VEVENT

END:VCALENDAR
