BEGIN:VCALENDAR
VERSION:2.0
PRODID:-//ChamberMaster//Event Calendar 2.0//EN
METHOD:PUBLISH
X-PUBLISHED-TTL:P3D
REFRESH-INTERVAL:P3D
CALSCALE:GREGORIAN
BEGIN:VEVENT
DTSTART:20240409T000000Z
DTEND:20240409T013000Z
X-MICROSOFT-CDO-ALLDAYEVENT:FALSE
SUMMARY:Red Dirt Master Gardeners Basic Workshop
DESCRIPTION:Red Dirt Master Gardeners Basic Workshop\n\nPlanting and Harvesting Times\n\nImproving Soil\n\nWhere to Buy Seeds and Plants\n\nGrowing Flowers
X-ALT-DESC;FMTTYPE=text/html:<span style="font-size:14px\;"><strong>Red Dirt Master Gardeners Basic Workshop</strong></span><br />\nPlanting and Harvesting Times<br />\nImproving Soil<br />\nWhere to Buy Seeds and Plants<br />\nGrowing Flowers
LOCATION:HSC Library
UID:e.2849.34959
SEQUENCE:3
DTSTAMP:20260422T054306Z
URL:https://thermopolischamber.org/events/details/red-dirt-master-gardeners-basic-workshop-34959
END:VEVENT

END:VCALENDAR
