BEGIN:VCALENDAR
VERSION:2.0
PRODID:-//ChamberMaster//Event Calendar 2.0//EN
METHOD:PUBLISH
X-PUBLISHED-TTL:P3D
REFRESH-INTERVAL:P3D
CALSCALE:GREGORIAN
BEGIN:VEVENT
DTSTART:20240426T233000Z
DTEND:20240427T013000Z
X-MICROSOFT-CDO-ALLDAYEVENT:FALSE
SUMMARY:Risen Son Christian School Scholarship Auction
DESCRIPTION:Pasta with a Purpose\n\nSpaghetti Dinner and Auction Fund Raiser\n\n100% of profits go to Risen Son Scholarship Fund
X-ALT-DESC;FMTTYPE=text/html:<strong>Pasta with a Purpose</strong><br />\nSpaghetti Dinner and Auction Fund Raiser<br />\n100% of profits go to Risen Son Scholarship Fund<br />\n&nbsp\;
LOCATION:HSC Fair building
UID:e.2849.34949
SEQUENCE:3
DTSTAMP:20260422T055122Z
URL:https://thermopolischamber.org/events/details/risen-son-christian-school-scholarship-auction-34949
END:VEVENT

END:VCALENDAR
