BEGIN:VCALENDAR
VERSION:2.0
PRODID:-//ChamberMaster//Event Calendar 2.0//EN
METHOD:PUBLISH
X-PUBLISHED-TTL:P3D
REFRESH-INTERVAL:P3D
CALSCALE:GREGORIAN
BEGIN:VEVENT
DTSTART:20240407T000000Z
DTEND:20240407T040000Z
X-MICROSOFT-CDO-ALLDAYEVENT:FALSE
SUMMARY:Rocky Mountain Elk Foundation Banquet
DESCRIPTION:Big Horn Basin Chapter Banquet and Fund Raiser\n\nHappy Hour & Catered Dinner\n\nGames & Raffles\n\nSilent & Live Auctions
X-ALT-DESC;FMTTYPE=text/html:Big Horn Basin Chapter Banquet and Fund Raiser<br />\nHappy Hour &amp\; Catered Dinner<br />\nGames &amp\; Raffles<br />\nSilent &amp\; Live Auctions<br />\n<br />\n&nbsp\;
LOCATION:HSC Fair Building 627 Springview Street Thermopolis
UID:e.2849.34848
SEQUENCE:3
DTSTAMP:20260422T060059Z
URL:https://thermopolischamber.org/events/details/rocky-mountain-elk-foundation-banquet-04-06-2024-34848
END:VEVENT

END:VCALENDAR
