BEGIN:VCALENDAR
VERSION:2.0
PRODID:-//ChamberMaster//Event Calendar 2.0//EN
METHOD:PUBLISH
X-PUBLISHED-TTL:P3D
REFRESH-INTERVAL:P3D
CALSCALE:GREGORIAN
BEGIN:VEVENT
DTSTART:20230708T140000Z
DTEND:20230708T230000Z
X-MICROSOFT-CDO-ALLDAYEVENT:FALSE
SUMMARY:Rummage Sale
DESCRIPTION:Hot Springs County Rummage Sale. Stop by the Chamber to get signed up.
X-ALT-DESC;FMTTYPE=text/html:Hot Springs County Rummage Sale. Stop by the Chamber to get signed up.&nbsp\;&nbsp\;
LOCATION:Hot Springs County
UID:e.2849.33896
SEQUENCE:3
DTSTAMP:20260425T174141Z
URL:https://thermopolischamber.org/events/details/rummage-sale-33896
END:VEVENT

END:VCALENDAR
