BEGIN:VCALENDAR
VERSION:2.0
PRODID:-//ChamberMaster//Event Calendar 2.0//EN
METHOD:PUBLISH
X-PUBLISHED-TTL:P3D
REFRESH-INTERVAL:P3D
CALSCALE:GREGORIAN
BEGIN:VEVENT
DTSTART:20230617T160000Z
DTEND:20230617T220000Z
X-MICROSOFT-CDO-ALLDAYEVENT:FALSE
SUMMARY:Rusty Old Truck Market
DESCRIPTION:Rusty Old Truck Market
X-ALT-DESC;FMTTYPE=text/html:Rusty Old Truck Market
LOCATION:Hot Springs State Park
UID:e.2849.33604
SEQUENCE:3
DTSTAMP:20260421T083754Z
URL:https://thermopolischamber.org/events/details/rusty-old-truck-market-33604
END:VEVENT

END:VCALENDAR
