BEGIN:VCALENDAR
VERSION:2.0
PRODID:-//ChamberMaster//Event Calendar 2.0//EN
METHOD:PUBLISH
X-PUBLISHED-TTL:P3D
REFRESH-INTERVAL:P3D
CALSCALE:GREGORIAN
BEGIN:VEVENT
DTSTART:20240406T150000Z
DTEND:20240406T170000Z
X-MICROSOFT-CDO-ALLDAYEVENT:FALSE
SUMMARY:Science Saturdays
DESCRIPTION:Lava Lamps
X-ALT-DESC;FMTTYPE=text/html:<span style="font-size:14px\;"><strong>Lava Lamps&nbsp\;</strong></span>
LOCATION:Wyoming Dinosaur Museum
UID:e.2849.34715
SEQUENCE:3
DTSTAMP:20260422T054143Z
URL:https://thermopolischamber.org/events/details/science-saturdays-34715
END:VEVENT

END:VCALENDAR
