BEGIN:VCALENDAR
VERSION:2.0
PRODID:-//ChamberMaster//Event Calendar 2.0//EN
METHOD:PUBLISH
X-PUBLISHED-TTL:P3D
REFRESH-INTERVAL:P3D
CALSCALE:GREGORIAN
BEGIN:VEVENT
DTSTART:20201205T153000Z
DTEND:20201205T233000Z
X-MICROSOFT-CDO-ALLDAYEVENT:FALSE
SUMMARY:Seminar on Strength Training and Nutrition
DESCRIPTION:1st Annual Thermopolis VFW Lifting Competition and Seminar December 5th & 6th 2020:\n\nMoney Raised will be donated to VFW Post #2281\n\n Seminar on Strength Training and Nutrition \n\n Presenter: Blaine Sumner the World's Strongest Powerlifter\n\n Squat: 1\,113lb\; Bench: 1\,0003lb\; Deadlifts: 816lb\n\n\n\nContact: Thermopolis- Hot Springs Chamber of Commerce (307)864-3192 for registration information
X-ALT-DESC;FMTTYPE=text/html:1st Annual Thermopolis VFW Lifting Competition and Seminar December 5th &amp\; 6th 2020:<br />\nMoney Raised will be donated to VFW Post #2281<br />\n&nbsp\;Seminar on Strength Training and Nutrition&nbsp\;<br />\n&nbsp\;Presenter: Blaine Sumner the World&#39\;s Strongest Powerlifter<br />\n&nbsp\;Squat: 1\,113lb\; Bench: 1\,0003lb\; Deadlifts: 816lb<br />\n<br />\nContact: Thermopolis- Hot Springs Chamber of Commerce (307)864-3192 for registration information
LOCATION:Gottsche Fitness Center\, 148 E. Arapahoe\, Thermopolis
UID:e.2849.26665
SEQUENCE:3
DTSTAMP:20260424T124157Z
URL:https://thermopolischamber.org/events/details/seminar-on-strength-training-and-nutrition-26665
END:VEVENT

END:VCALENDAR
