BEGIN:VCALENDAR
VERSION:2.0
PRODID:-//ChamberMaster//Event Calendar 2.0//EN
METHOD:PUBLISH
X-PUBLISHED-TTL:P3D
REFRESH-INTERVAL:P3D
CALSCALE:GREGORIAN
BEGIN:VEVENT
DTSTART:20240430T000000Z
DTEND:20240430T020000Z
X-MICROSOFT-CDO-ALLDAYEVENT:FALSE
SUMMARY:Shooting Complex Public Comment Meeting
DESCRIPTION:The HSC Shooting Complex Committee will explain their Shooting\n\nComplex proposal and is seeking public comment on the proposal.
X-ALT-DESC;FMTTYPE=text/html:<strong>The HSC Shooting Complex Committee will explain their Shooting<br />\nComplex proposal and is seeking public comment on the proposal.</strong>
LOCATION:Thermopolis Fire Hall 400 South 14th Street
UID:e.2849.35005
SEQUENCE:3
DTSTAMP:20260422T054316Z
URL:https://thermopolischamber.org/events/details/shooting-complex-public-comment-meeting-35005
END:VEVENT

END:VCALENDAR
