BEGIN:VCALENDAR
VERSION:2.0
PRODID:-//ChamberMaster//Event Calendar 2.0//EN
METHOD:PUBLISH
X-PUBLISHED-TTL:P3D
REFRESH-INTERVAL:P3D
CALSCALE:GREGORIAN
BEGIN:VEVENT
DTSTART;VALUE=DATE:20211127
DTEND;VALUE=DATE:20211128
TRANSP:TRANSPARENT
X-MICROSOFT-CDO-ALLDAYEVENT:TRUE
SUMMARY:Shop Small town Saturday Hometown Holiday
DESCRIPTION:Shop Small Town Saturday Hometown Holiday
X-ALT-DESC;FMTTYPE=text/html:Shop Small Town Saturday Hometown Holiday
LOCATION:Thermopolis/Hot Springs County
UID:e.2849.28926
SEQUENCE:3
DTSTAMP:20260425T223524Z
URL:https://thermopolischamber.org/events/details/shop-small-town-saturday-hometown-holiday-28926
END:VEVENT

END:VCALENDAR
