BEGIN:VCALENDAR
VERSION:2.0
PRODID:-//ChamberMaster//Event Calendar 2.0//EN
METHOD:PUBLISH
X-PUBLISHED-TTL:P3D
REFRESH-INTERVAL:P3D
CALSCALE:GREGORIAN
BEGIN:VEVENT
DTSTART:20241015T233000Z
DTEND:20241016T010000Z
X-MICROSOFT-CDO-ALLDAYEVENT:FALSE
SUMMARY:Small Business Lending Workshop
DESCRIPTION:Small Business Lending Workshop\n\nHosted by Central Bank & Trust\n\nPresentation will be an overview of the business lending process\n\nLight snacks will be sponsored by Central Bank and Trust
X-ALT-DESC;FMTTYPE=text/html:<strong>Small Business Lending Workshop<br />\nHosted by Central Bank &amp\; Trust<br />\nPresentation will be an overview of the business lending process<br />\nLight snacks will be sponsored by Central Bank and Trust</strong>
LOCATION:7Lazy S Thermopolis
UID:e.2849.35514
SEQUENCE:3
DTSTAMP:20260420T133302Z
URL:https://thermopolischamber.org/events/details/small-business-lending-workshop-35514
END:VEVENT

END:VCALENDAR
