BEGIN:VCALENDAR
VERSION:2.0
PRODID:-//ChamberMaster//Event Calendar 2.0//EN
METHOD:PUBLISH
X-PUBLISHED-TTL:P3D
REFRESH-INTERVAL:P3D
CALSCALE:GREGORIAN
BEGIN:VEVENT
DTSTART:20231201T000000Z
DTEND:20231201T020000Z
X-MICROSOFT-CDO-ALLDAYEVENT:FALSE
SUMMARY:Soup with Santa
DESCRIPTION:Join us for a soup dinner\, holiday crafts and Santa and Mrs. Claus! Dinner and crafts have suggested donations. This event is a fundraiser for our local Dolly Parton Imagination Library - delivering free books to children birth to three years old in Hot Springs County.
X-ALT-DESC;FMTTYPE=text/html:Join us for a soup dinner\, holiday crafts and Santa and Mrs. Claus! Dinner and crafts have suggested donations. This event is a fundraiser for our local Dolly Parton Imagination Library - delivering free books to children birth to three years old in Hot Springs County.
LOCATION:Children's Resource Center - 130 Hwy 20 South
UID:e.2849.34673
SEQUENCE:3
DTSTAMP:20260425T141357Z
URL:https://thermopolischamber.org/events/details/soup-with-santa-11-30-2023-34673
END:VEVENT

END:VCALENDAR
