BEGIN:VCALENDAR
VERSION:2.0
PRODID:-//ChamberMaster//Event Calendar 2.0//EN
METHOD:PUBLISH
X-PUBLISHED-TTL:P3D
REFRESH-INTERVAL:P3D
CALSCALE:GREGORIAN
BEGIN:VEVENT
DTSTART;VALUE=DATE:20191102
DTEND;VALUE=DATE:20191103
TRANSP:TRANSPARENT
X-MICROSOFT-CDO-ALLDAYEVENT:TRUE
SUMMARY:Team Branding
DESCRIPTION:team branding
X-ALT-DESC;FMTTYPE=text/html:team branding
LOCATION:HSC Fairgrounds
UID:e.2849.25253
SEQUENCE:3
DTSTAMP:20260421T084359Z
URL:https://thermopolischamber.org/events/details/team-branding-25253
END:VEVENT

END:VCALENDAR
