BEGIN:VCALENDAR
VERSION:2.0
PRODID:-//ChamberMaster//Event Calendar 2.0//EN
METHOD:PUBLISH
X-PUBLISHED-TTL:P3D
REFRESH-INTERVAL:P3D
CALSCALE:GREGORIAN
BEGIN:VEVENT
DTSTART:20220625T010000Z
DTEND:20220625T010000Z
X-MICROSOFT-CDO-ALLDAYEVENT:FALSE
SUMMARY:Thermopolis Cowboy Rendezvous Rodeo PRCA
DESCRIPTION:Thermopolis Cowboy Rendezvous PRCA Rodeo Performance\n\nTough Enough to Wear Pink Night!
X-ALT-DESC;FMTTYPE=text/html:Thermopolis Cowboy Rendezvous PRCA Rodeo Performance<br />\nTough Enough to Wear Pink Night!<br />\n&nbsp\;
LOCATION:HS County Fairgrounds
UID:e.2849.29128
SEQUENCE:3
DTSTAMP:20260424T144804Z
URL:https://thermopolischamber.org/events/details/thermopolis-cowboy-rendezvous-rodeo-prca-29128
END:VEVENT

END:VCALENDAR
