BEGIN:VCALENDAR
VERSION:2.0
PRODID:-//ChamberMaster//Event Calendar 2.0//EN
METHOD:PUBLISH
X-PUBLISHED-TTL:P3D
REFRESH-INTERVAL:P3D
CALSCALE:GREGORIAN
BEGIN:VEVENT
DTSTART:20201207T230000Z
DTEND:20201208T030000Z
X-MICROSOFT-CDO-ALLDAYEVENT:FALSE
SUMMARY:Tour Of Homes Scavenger Hunt
DESCRIPTION:Fundraiser for People for People. This year it will be a scavenger hunt featuring several locations around Thermopolis for you and your family to drive by to look for specific items. Tickets go on sale Monday at Dairyland & Hot City Coffee\, Storyteller\, the Chamber of Commerce\, The Shoppe\, Nu Vogue\, and A Cut Above. Each ticket must be returned to Santa at Bicentennial Park on the corner of Broadway and Fifth Street the night of the event. Your signed ticket puts you into a drawing for special prizes. Winners will be contacted by phone.\n\n\n\nFor more information contact Judy Carswell at (307) 921-8264 or Ranae Baldes at (307) 921- 1837
X-ALT-DESC;FMTTYPE=text/html:Fundraiser for People for People. This year it will be a scavenger hunt featuring several locations around Thermopolis for you and your family to drive by to look for specific items. Tickets go on sale Monday at Dairyland &amp\; Hot City Coffee\, Storyteller\, the Chamber of Commerce\, The Shoppe\, Nu Vogue\, and A Cut Above. Each ticket must be returned to Santa at Bicentennial Park on the corner of Broadway and Fifth Street the night of the event. Your signed ticket puts you into a drawing for special prizes. Winners will be contacted by phone.<br />\n<br />\nFor more information contact Judy Carswell at (307) 921-8264 or Ranae Baldes at (307) 921- 1837
LOCATION:
UID:e.2849.26801
SEQUENCE:3
DTSTAMP:20260424T124652Z
URL:https://thermopolischamber.org/events/details/tour-of-homes-scavenger-hunt-26801
END:VEVENT

END:VCALENDAR
