BEGIN:VCALENDAR
VERSION:2.0
PRODID:-//ChamberMaster//Event Calendar 2.0//EN
METHOD:PUBLISH
X-PUBLISHED-TTL:P3D
REFRESH-INTERVAL:P3D
CALSCALE:GREGORIAN
BEGIN:VEVENT
DTSTART:20201216T200000Z
DTEND:20201216T220000Z
X-MICROSOFT-CDO-ALLDAYEVENT:FALSE
SUMMARY:Travel and Tourism Public Hearing
DESCRIPTION:Hot Springs Travel and Tourism will hold a Public Hearing about amending its FY 20-21 budget at its December 16\, 2020 Board Meeting at 1pm at the Hot Springs County Historical Museum. The amendment will be to add $59\,554.23 in CARES Relief Funds from the WY Office of Tourism into the current budget and to add carry-over funds of $50\,000 to the current budget. The regularly scheduled Public Hearing will be held December 16\, 2020 at 1pm at the Hot Springs County Historical Museum and via Zoom.
X-ALT-DESC;FMTTYPE=text/html:<span style="font-size:12px\;"><span style="font-family:calibri\;">Hot Springs Travel and Tourism will hold a Public Hearing about amending its FY 20-21 budget at its December 16\, 2020 Board Meeting at 1pm at the Hot Springs County Historical Museum. The amendment will be to add $59\,554.23 in CARES Relief Funds from the WY Office of Tourism into the current budget and to add carry-over funds of $50\,000 to the current budget. The regularly scheduled Public Hearing will be held December 16\, 2020 at 1pm at the Hot Springs County Historical Museum and via Zoom. </span></span><br />\n&nbsp\;
LOCATION:HSC Historical Museum
UID:e.2849.26837
SEQUENCE:3
DTSTAMP:20260424T124528Z
URL:https://thermopolischamber.org/events/details/travel-and-tourism-public-hearing-26837
END:VEVENT

END:VCALENDAR
