BEGIN:VCALENDAR
VERSION:2.0
PRODID:-//ChamberMaster//Event Calendar 2.0//EN
METHOD:PUBLISH
X-PUBLISHED-TTL:P3D
REFRESH-INTERVAL:P3D
CALSCALE:GREGORIAN
BEGIN:VEVENT
DTSTART:20240429T233000Z
DTEND:20240430T010000Z
X-MICROSOFT-CDO-ALLDAYEVENT:FALSE
SUMMARY:Tree Care Class
DESCRIPTION:Hosted by University of Wyoming Extension \n\narborist Todd Graus will teach a tree care class\n\nTopics covered will be: Site selection\, tree planting techniques\, and species that do well in the Big Horn Basin
X-ALT-DESC;FMTTYPE=text/html:<strong>Hosted by University of Wyoming Extension&nbsp\;<br />\narborist Todd Graus will teach a tree care class<br />\nTopics covered will be: Site selection\, tree planting techniques\, and species that do well in the Big Horn Basin</strong>
LOCATION:Washakie Extension Office 1200 Culbertson Ave. Worland\, Wyoming
UID:e.2849.35013
SEQUENCE:3
DTSTAMP:20260422T054137Z
URL:https://thermopolischamber.org/events/details/tree-care-class-35013
END:VEVENT

END:VCALENDAR
