BEGIN:VCALENDAR
VERSION:2.0
PRODID:-//ChamberMaster//Event Calendar 2.0//EN
METHOD:PUBLISH
X-PUBLISHED-TTL:P3D
REFRESH-INTERVAL:P3D
CALSCALE:GREGORIAN
BEGIN:VEVENT
DTSTART:20260426T003000Z
DTEND:20260426T030000Z
X-MICROSOFT-CDO-ALLDAYEVENT:FALSE
SUMMARY:Trout Unlimited Square Dance
DESCRIPTION:Free community celebration!\n\nWyoming Trout Unlimited Council invites you to an old fashioned square dance that is open to all residents of Hot Springs County.\n\nProfessional caller\, Stephen Lassiter from Cody will lead the square dance.\n\nThere will be a beer and wine bar at this event.
X-ALT-DESC;FMTTYPE=text/html:<strong><span style="font-size:16px\;">Free community celebration!</span><br />\nWyoming Trout Unlimited Council invites you to an old fashioned square dance that is open to all residents of Hot Springs County.<br />\nProfessional caller\, Stephen Lassiter from Cody will lead the square dance.<br />\nThere will be a beer and wine bar at this event.</strong>
LOCATION:HSC Fair building
UID:e.2849.37641
SEQUENCE:3
DTSTAMP:20260422T073714Z
URL:https://thermopolischamber.org/events/details/trout-unlimited-square-dance-37641
END:VEVENT

END:VCALENDAR
