BEGIN:VCALENDAR
VERSION:2.0
PRODID:-//ChamberMaster//Event Calendar 2.0//EN
METHOD:PUBLISH
X-PUBLISHED-TTL:P3D
REFRESH-INTERVAL:P3D
CALSCALE:GREGORIAN
BEGIN:VEVENT
DTSTART:20240427T160000Z
DTEND:20240427T200000Z
X-MICROSOFT-CDO-ALLDAYEVENT:FALSE
SUMMARY:Trunk Sale @ HS Senior Center
DESCRIPTION:Trunk Sale\n\nSell your second-hand items from your open trunk or pick-up bed.
X-ALT-DESC;FMTTYPE=text/html:<span style="font-size:14px\;"><strong>Trunk Sale</strong><br />\nSell your second-hand items from your open trunk or pick-up bed.&nbsp\;</span>
LOCATION:HSC Senior Citizen Center 206 Senior Ave.
UID:e.2849.34901
SEQUENCE:3
DTSTAMP:20260422T055006Z
URL:https://thermopolischamber.org/events/details/trunk-sale-hs-senior-center-34901
END:VEVENT

END:VCALENDAR
